BEGIN:VCALENDAR
VERSION:2.0
METHOD:PUBLISH
PRODID:Data::ICal 0.22
BEGIN:VEVENT
DESCRIPTION:HELGE SCHNEIDER\, der PerÃ¼ckentrÃ¤ger aus dem Ruhrgebiet manÃ¶
 vriert sich trompetend und mit unverwechselbarem Geschnatter ins nÃ¤chste
 Jahrzehnt! In einer verrÃ¼ckten Neuauflage einer Art Miniaturorchester beu
 telt er weiter die Zwergfelle seiner Zuschauer bis aufs Ã„uÃŸerste. </br>\
 nMal haut er auf die Trommel\, mal posaunt er ein Sammelsurium von TÃ¶nen
 aus seinem Saxophon\, das er geschickt versteckt hÃ¤lt\, bis es dran kommt
 .\nLinks Klavier\, rechts Trompete\, linker FuÃŸ Rhythmus und rechter FuÃŸ
  bumm bumm auf der dicken Basstrommel. Herrlich\, ihm zusehen zu mÃ¼ssen\,
  wie er sich abmÃ¼ht! Aber es lohnt sich! Allemal!</br>\nLEO zupft die 4 S
 aiten seines Kontrabasses und SANDRO zerhackt aufkeimende Gedanken mit sei
 ner ultraschmalen und scharf klingenden alten Gibson Klampfe! Ein HochgefÃ
 ¼hl von Mega Quatsch macht sich breit\, wenn HELGE mittendrin das Konzert
 spontan beendet\, um sofort wieder loszulegen.</br>\nWer sich noch ein bis
 schen Humor in dieser beschissenen Zeit erhalten will\, ist genau richtig
 bei KLIMPERHELGES Tournee. Doch Vorsicht!</br>\nELLEBOGEN VOM TISCH!<p>\nB
 esetzung:</br>\nHelge Schneider alles</br>\nSandro Giampetro Gitarre</br>\
 nLeo Richartz Bass</br>\nLuis Vargas Percussion\n
DTEND:20260817T230000Z
DTSTAMP:19971210T080000Z
DTSTART:20260818T183000Z
LOCATION:Am Amphitheater\, 63454 Hanau\, Kesselstadt
ORGANIZER:Amphitheater
SEQUENCE:0
STATUS:CONFIRMED
SUMMARY:Helge Schneider - Ellebogen vom Tich!
TRANSP:OPAQUE
UID:/2/208/209/576/1802622026/08/18
URL:https://www.hanau.de/hanau.de/freizeit/veranstaltungskalender/veranstal
 tungen/180262_termin.ics
END:VEVENT
END:VCALENDAR
