BEGIN:VCALENDAR
VERSION:2.0
METHOD:PUBLISH
PRODID:Data::ICal 0.22
BEGIN:VEVENT
DESCRIPTION:Die Führungsreihe „Wilhelmsbad erleben“ lädt dazu ein\, G
 eschichte\, Architektur und Natur hautnah zu erleben in einem der schönst
 en Parkensembles in Hessen. Entdecken Sie die Höhepunkte des Staatsparks
 Hanau-Wilhelmsbad und besichtigen Sie dabei unter anderem das historische
 Karussell. Es gilt als ältestes feststehendes Karussell der Welt.<br>\nEi
 ntrittspreis: 24€/Person
DTEND:20260801T120000Z
DTSTAMP:19971210T080000Z
DTSTART:20260801T093000Z
LOCATION:Hochstädter Landstraße ( Parkplatz)\, 63454 Hanau\, Hohe Tanne
ORGANIZER:Wilhelmsbad Staatspark
SEQUENCE:0
STATUS:CONFIRMED
SUMMARY:Wilhelmsbad erleben-Führung durch die Burgruine und das historisch
 e Karussell
TRANSP:OPAQUE
UID:/2/208/209/576/1820932026/08/01
URL:https://www.hanau.de/hanau.de/freizeit/veranstaltungskalender/veranstal
 tungen/182093_termin.ics
END:VEVENT
END:VCALENDAR
