BEGIN:VCALENDAR
VERSION:2.0
METHOD:PUBLISH
PRODID:Data::ICal 0.22
BEGIN:VEVENT
DESCRIPTION:In der Abenddämmerung begeben sich die Teilnehmenden gemeinsam
  auf Entdeckungstour durch den Lebensraum der Fledermäuse im Licht- und L
 uftbad. Bei einem hessischen Snack bleibt Zeit zum Ankommen\, für erste G
 espräche und eine Einführung in die Welt dieser faszinierenden Tiere. \n
 <br><br>\nDie Referentin des Umweltzentrums vermittelt anschaulich Wissens
 wertes über die Lebensweise der Fledermäuse: wie sie jagen\, wo und wie
 sie überwintern und weshalb viele Arten heute auf unsere Unterstützung a
 ngewiesen sind. Mit Hilfe eines speziellen Detektors werden ihre Ultrascha
 llrufe hörbar gemacht\, und mit etwas Glück lassen sich ihre wendigen Fl
 ugmanöver am Abendhimmel beobachten.\n<br><br>\nWährend des Rundgangs du
 rch das Gelände erfahren die Teilnehmenden zudem Spannendes über die Ges
 chichte und Besonderheiten des Licht- und Luftbads. Darüber hinaus erhalt
 en sie praktische Anregungen\, was der Verein und jede und jeder Einzelne
 im eigenen Garten tun kann\, um Fledermäusen einen geeigneten Lebensraum
 zu bieten. \n<br><br>\nDiese Veranstaltung wird durch das Hessische Minist
 erium für Umwelt und Landwirtschaft\, Weinbau\, Forsten\, Jagd und Heimat
  gefördert und kann deshalb kostenfrei angeboten werden.\n<br><br>\n<b>Pr
 eise:</b> kostenfrei\n<br><br>\nEine Anmeldung per E-Mail an anmeldung-umw
 eltzentrum@hanau.de oder telefonisch unter der 06181- 29 50 21 58 ist erfo
 rderlich.\n<br><br>\nHinweis: Bei Fragen zur Barrierefreiheit sprechen Sie
  uns bitte an.
DTEND:20260522T210000Z
DTSTAMP:19971210T080000Z
DTSTART:20260522T180000Z
LOCATION:August-Schärttner-Straße 19a\, 63452 Hanau\, Innenstadt
ORGANIZER:Licht- und Luftbad Hanau e.V.
SEQUENCE:0
STATUS:CONFIRMED
SUMMARY:Die Heimat der Fledermäuse
TRANSP:OPAQUE
UID:/2/208/209/576/1827022026/05/22
URL:https://www.hanau.de/hanau.de/freizeit/veranstaltungskalender/veranstal
 tungen/182702_termin.ics
END:VEVENT
END:VCALENDAR
