BEGIN:VCALENDAR
VERSION:2.0
METHOD:PUBLISH
PRODID:Data::ICal 0.22
BEGIN:VEVENT
DESCRIPTION:Holzkunst begegnet archäologischen Fundstücken \n
DTEND:20260628T160000Z
DTSTAMP:19971210T080000Z
DTSTART:20260628T140000Z
LOCATION:Schlossstr. 9\, 63456 Hanau\, Steinheim
ORGANIZER:Museum Schloss Steinheim
SEQUENCE:0
STATUS:CONFIRMED
SUMMARY:KINDERSCHNITZWORKHOP MIT KLAUS KIRCHNER
TRANSP:OPAQUE
UID:/2/208/209/576/1827842026/06/28
URL:https://www.hanau.de/hanau.de/freizeit/veranstaltungskalender/veranstal
 tungen/182784_termin.ics
END:VEVENT
END:VCALENDAR
