BEGIN:VCALENDAR
VERSION:2.0
METHOD:PUBLISH
PRODID:Data::ICal 0.22
BEGIN:VEVENT
DESCRIPTION:Rente- und jetzt? Wer vor dieser Frage steht\, und seiner neu f
 reigewordenen Zeit einen Sinn geben möchte\, ist herzlich eingeladen\, be
 im Workshop der Freiwilligenagentur mitzumachen.\n<p>\nWie findet man das
 passende Ehrenamt? Welche Tätigkeitsfelder gibt es überhaupt? Wie kann i
 ch meine Fähigkeiten einbringen? Was genau kann ich tun?\n<p>\nAm Ende de
 s Workshops hat man einen Überblick über verschiedene Möglichkeiten des
  Engagements und im besten Fall auch direkt schon Kontaktadressen von Orga
 nisationen\, die sich über neue Freiwillige freuen.\n<p>\nKostenfrei für
  alle Engagierten durch die Förderung des Hessischen Ministerium für Arb
 eit\, Integration\, Jugend und Soziales.\n<p>\n<b>Dozent/-in:</b> Bianca B
 roßmann\, Freiwilligenagentur Hanau\n<p>\n<b>Bitte melden Sie sich bis sp
 ätestens 30. April 2026 verbindlich per E-Mail an: <a href="mailto: freiw
 illigenagentur@hanau.de"> freiwilligenagentur@hanau.de</a></b>\n
DTEND:20260507T113000Z
DTSTAMP:19971210T080000Z
DTSTART:20260507T090000Z
LOCATION:Am Freiheitsplatz 18 a\, 63450 Hanau\, Innenstadt
ORGANIZER:Kulturforum Hanau
SEQUENCE:0
STATUS:CONFIRMED
SUMMARY:Glücklich und erfüllt im Ruhestand
TRANSP:OPAQUE
UID:/2/208/209/576/1829692026/05/07
URL:https://www.hanau.de/hanau.de/freizeit/veranstaltungskalender/veranstal
 tungen/182969_termin.ics
END:VEVENT
END:VCALENDAR
