BEGIN:VCALENDAR
VERSION:2.0
METHOD:PUBLISH
PRODID:Data::ICal 0.22
BEGIN:VEVENT
DESCRIPTION:Der große Familientag für Kinder\, Familien und Technikgebeis
 terte!
DTEND:20260927T150000Z
DTSTAMP:19971210T080000Z
DTSTART:20260927T090000Z
LOCATION:Pfortenwingert 4\, 63457 Hanau\, Großauheim
ORGANIZER:Museum Großauheim
SEQUENCE:0
STATUS:CONFIRMED
SUMMARY:Familientag "Dampf ab"
TRANSP:OPAQUE
UID:/2/208/209/576/1834362026/09/27
URL:https://www.hanau.de/hanau.de/freizeit/veranstaltungskalender/veranstal
 tungen/183436_termin.ics
END:VEVENT
END:VCALENDAR
