BEGIN:VCALENDAR
VERSION:2.0
METHOD:PUBLISH
PRODID:Data::ICal 0.22
BEGIN:VEVENT
DESCRIPTION:<b>Die Teilnahme an der Veranstaltung berechtigt Sie zur eigens
 tändigen Nutzung des Lasercutters. Eine Teilnahme ist nur unter vorherige
 r Anmeldung möglich. Voraussetzung für die Anmeldung ist ein gültiger B
 ibliotheksausweis. Die Veranstaltung ist kostenfrei\, eine Teilnahme ist a
 b 14 Jahren möglich.</b><br>\n<br>\nBei dem Verfahren mit einem Lasercutt
 er dreht sich alles um die Bearbeitung von Materialien. Sie können ein St
 ück Holz gravieren\, Ihren Schlüsselanhänger personalisieren oder Plexi
 glas in eine gewünschte Form schneiden. Mit unserem Lasercutter xTool P2
 sind unterschiedliche Bearbeitungsmöglichkeiten vorhanden. Der Gerätefü
 hrerschein macht Sie mit der Funktionsweise vertraut. Durch eine Sicherhei
 tsabdeckung und einen Luftfilter ist eine gefahrenlose Nutzung in Innenrä
 umen möglich. Gerne kann ein eigener Laptop mitgebracht werden\, auf dem
 die kostenfreie Software "xTool Studio" bereits installiert sein sollte.
DTEND:20260518T160000Z
DTSTAMP:19971210T080000Z
DTSTART:20260518T140000Z
LOCATION:Am Freiheitsplatz 18 a\, 63450 Hanau\, Innenstadt
ORGANIZER:Kulturforum Hanau
SEQUENCE:0
STATUS:CONFIRMED
SUMMARY:Geräteführerschein für den Lasercutter
TRANSP:OPAQUE
UID:/2/208/209/576/1834762026/05/18
URL:https://www.hanau.de/hanau.de/freizeit/veranstaltungskalender/veranstal
 tungen/183476_termin.ics
END:VEVENT
END:VCALENDAR
