BEGIN:VCALENDAR
VERSION:2.0
METHOD:PUBLISH
PRODID:Data::ICal 0.22
BEGIN:VEVENT
DESCRIPTION:Du möchtest über Themen aus Politik und Gesellschaft sprechen
 \, die dich bewegen? Dann komm zur Demokratiewerkstatt.\nGemeinsam mit and
 eren bestimmst du das Programm\, bekommst Antworten auf deine Fragen und k
 annst dich einbringen.\nDas Kulturforum Hanau lädt in Kooperation mit der
  VHS Hanau zu lockeren Gesprächsrunden ein.
DTEND:20260507T180000Z
DTSTAMP:19971210T080000Z
DTSTART:20260507T160000Z
LOCATION:Am Freiheitsplatz 18 a\, 63450 Hanau\, Innenstadt
ORGANIZER:Kulturforum Hanau
SEQUENCE:0
STATUS:CONFIRMED
SUMMARY:Demokratiewerkstatt -  Politische Bildung mal anders
TRANSP:OPAQUE
UID:/2/208/209/576/1836312026/05/07
URL:https://www.hanau.de/hanau.de/freizeit/veranstaltungskalender/veranstal
 tungen/183631_termin.ics
END:VEVENT
END:VCALENDAR
