BEGIN:VCALENDAR
VERSION:2.0
METHOD:PUBLISH
PRODID:Data::ICal 0.22
BEGIN:VEVENT
DESCRIPTION:In einer neuen von Kulturforum-Chefin Nicole Strohrmann kuratie
 rten Reihe â€žStrohrmann lÃ¤dt einâ€œ begrÃ¼ÃŸen wir als ersten Gast den A
 utor Thomas A. Herrig zu einer besonderen Lesung mit Musik. <br>\n<br>\nHe
 rrig stellt zunÃ¤chst seinen ErzÃ¤hlband â€žDas Winken der vergnÃ¼gten Kat
 zeâ€œ vor. Das Buch versammelt 28 kurze\, illustrierte â€žHealing-Fictionâ
 €œ-Geschichten\, ein literarischer Trend\, der besonders in Japan und Kore
 a viele Leserinnen und Leser begeistert. Mit Leichtigkeit und feinem Humor
  erzÃ¤hlen die Texte von den kleinen und groÃŸen Herausforderungen des All
 tags. Es sind Geschichten\, die innehalten lassen und neue Perspektiven er
 Ã¶ffnen â€“ auf eine charmante Art. <br>\nAuÃŸerdem prÃ¤sentiert Herrig se
 inen literarischen DebÃ¼troman â€žDie UMschreibung eines Lebensâ€œ (MÃ¼nst
 er Verlag ZÃ¼rich\, April 2026). Das Buch erzÃ¤hlt die wahre Geschichte ei
 nes kreativen Lebensweges â€“ und einer Berufung\, die keine Ruhe gibt. <b
 r>\nAlles beginnt mit einem brennenden Traum: Schriftsteller werden. Doch
 was folgt\, ist keine lineare Erfolgsgeschichte\, sondern ein literarische
 r Roadtrip durch besondere Begabung\, Scheitern\, Verzweiflung und immer n
 eue AnlÃ¤ufe. Thomas A. Herrig begegnet GrÃ¶ÃŸen wie Bruno Ganz\, Martin W
 alser\, Doris DÃ¶rrie\, kÃ¤mpft mit einem Burnout\, grÃ¼ndet fast eine Uni
 versitÃ¤t und taucht tief ein in die Welten von Literatur\, Werbung und Me
 dien. Mal tragisch\, mal komisch â€“ immer authentisch â€“ erzÃ¤hlt er von
  einem Leben zwischen Notwendigkeit und KreativitÃ¤t\, voller ungewÃ¶hnlic
 her Wendungen und einer Berufung\, die ihn nie loslÃ¤sst. Ein inspirierend
 es Buch fÃ¼r alle\, die an ihren Traum glauben wollen.<br>\nMit der Verbin
 dung beider BÃ¼cher zeigt der Abend zwei sehr unterschiedliche und zugleic
 h eng verbundene Seiten von Herrigs Schreiben: die kurze\, alltagsnah-insp
 irierende ErzÃ¤hlform einerseits und den groÃŸen\, biografischen Roman and
 ererseits. <br>\nPianistisch begleitet wird die Veranstaltung durch Charle
 s Herrig am Klavier. \n\n
DTEND:20260518T220000Z
DTSTAMP:19971210T080000Z
DTSTART:20260519T163000Z
LOCATION:Am Freiheitsplatz 18 a\, 63450 Hanau\, Innenstadt
ORGANIZER:Kulturforum Hanau
SEQUENCE:0
STATUS:CONFIRMED
SUMMARY:Strohrmann lÃ¤dt ein: musikalische Lesung mit Thomas A. Herrig
TRANSP:OPAQUE
UID:/2/208/209/576/1836332026/05/19
URL:https://www.hanau.de/hanau.de/freizeit/veranstaltungskalender/veranstal
 tungen/183633_termin.ics
END:VEVENT
END:VCALENDAR
